BEGIN:VCALENDAR
VERSION:2.0
PRODID:-// - ECPv6.15.20//NONSGML v1.0//EN
CALSCALE:GREGORIAN
METHOD:PUBLISH
X-ORIGINAL-URL:https://physiotraildogs.de
X-WR-CALDESC:Veranstaltungen für 
REFRESH-INTERVAL;VALUE=DURATION:PT1H
X-Robots-Tag:noindex
X-PUBLISHED-TTL:PT1H
BEGIN:VTIMEZONE
TZID:Europe/Berlin
BEGIN:DAYLIGHT
TZOFFSETFROM:+0100
TZOFFSETTO:+0200
TZNAME:CEST
DTSTART:20240331T010000
END:DAYLIGHT
BEGIN:STANDARD
TZOFFSETFROM:+0200
TZOFFSETTO:+0100
TZNAME:CET
DTSTART:20241027T010000
END:STANDARD
BEGIN:DAYLIGHT
TZOFFSETFROM:+0100
TZOFFSETTO:+0200
TZNAME:CEST
DTSTART:20250330T010000
END:DAYLIGHT
BEGIN:STANDARD
TZOFFSETFROM:+0200
TZOFFSETTO:+0100
TZNAME:CET
DTSTART:20251026T010000
END:STANDARD
BEGIN:DAYLIGHT
TZOFFSETFROM:+0100
TZOFFSETTO:+0200
TZNAME:CEST
DTSTART:20260329T010000
END:DAYLIGHT
BEGIN:STANDARD
TZOFFSETFROM:+0200
TZOFFSETTO:+0100
TZNAME:CET
DTSTART:20261025T010000
END:STANDARD
BEGIN:DAYLIGHT
TZOFFSETFROM:+0100
TZOFFSETTO:+0200
TZNAME:CEST
DTSTART:20270328T010000
END:DAYLIGHT
BEGIN:STANDARD
TZOFFSETFROM:+0200
TZOFFSETTO:+0100
TZNAME:CET
DTSTART:20271031T010000
END:STANDARD
END:VTIMEZONE
BEGIN:VEVENT
DTSTART;TZID=Europe/Berlin:20260320T000000
DTEND;TZID=Europe/Berlin:20260322T235959
DTSTAMP:20260424T180558
CREATED:20250316T184245Z
LAST-MODIFIED:20260311T170949Z
UID:123-1773964800-1774223999@physiotraildogs.de
SUMMARY:Rettungshundearbeit unter dem Einfluss von Leichengeruch
DESCRIPTION:In der atemlosen Spannung der Suche\, wenn jede Sekunde zählt\, ist unser größter Wunsch\, Leben zu retten. Doch die Realität kann uns auch mit der Konfrontation des Todes herausfordern. In diesen Momenten\, wenn die Hoffnung schwindet\, ist es unsere Pflicht\, den Angehörigen wenigstens Gewissheit zu bringen. \nDieses Seminar ist keine gewöhnliche Ausbildung. Es ist eine tiefgreifende Reise in die Psyche unserer vierbeinigen Partner\, wenn sie mit dem Unausweichlichen konfrontiert werden. Wir lernen\, ihre subtilen Signale zu deuten\, ihre Reaktionen zu verstehen und ihnen in diesen emotional aufgeladenen Augenblicken beizustehen. \nWas erwartet Sie: \n\nEinblicke in die Gefühlswelt des Hundes: Verstehen Sie\, wie Ihr Hund auf den Geruch und die Präsenz eines Verstorbenen reagiert.\nPraktische Übungen: Lernen Sie\, die Körpersprache und das Verhalten Ihres Hundes in simulierten Szenarien zu interpretieren.\nExpertenwissen: Erfahren Sie von dem erfahrenen Hundeführer und Ausbilder Axel Hehl\, wie Sie Ihren Hund in diesen herausfordernden Situationen unterstützen können.\nEthische Betrachtungen: Reflektieren Sie über die Bedeutung Ihrer Arbeit und den respektvollen Umgang mit den Verstorbenen und ihren Angehörigen.\n\nDieses Seminar ist mehr als nur eine Weiterbildung. Es ist eine Gelegenheit\, die Bindung zu Ihrem Hund zu vertiefen und Ihre Fähigkeiten als verantwortungsbewusster Hundeführer zu erweitern. \nÜber den Referenten: \nAxel Hehl ist ein anerkannter Experte im Bereich der Rettungshundearbeit mit langjähriger Erfahrung. Er verfügt über umfassendes Wissen und praktische Erfahrung in der Ausbildung von Suchhunden und der Interpretation ihres Verhaltens in schwierigen Situationen. \nTeilnehmerzahl und Kosten: \n\nDie Teilnehmerzahl ist auf maximal 20 Teilnehmer mit Hund begrenzt\, um eine intensive und individuelle Betreuung zu gewährleisten.\nDie Kosten für das Seminar betragen 225 Euro pro Teilnehmer.\n\nFür wen ist dieses Seminar geeignet: \n\nHundeführer von Rettungshundestaffeln\nAngehörige von Suchhundestaffeln\nAlle\, die ein tieferes Verständnis für die Arbeit von Suchhunden entwickeln möchten\n\nSeien Sie bereit\, Ihre Komfortzone zu verlassen und sich den emotionalen Herausforderungen dieser wichtigen Aufgabe zu stellen. Gemeinsam können wir lernen\, unseren Hunden in jeder Situation ein verlässlicher Partner zu sein. \n_______________________________________________________ \nAnmeldung: \nBitte aktiviere JavaScript in deinem Browser\, um dieses Formular fertigzustellen.Bitte aktiviere JavaScript in deinem Browser\, um dieses Formular fertigzustellen.Name *VornameNachnameE-Mail-Adresse *Adresse *Adresse Zeile 1Anschrift ZusatzOrtState / Province / RegionPostal Code--- Select country ---AfghanistanAlbanienAlgerienAmerikanisch-SamoaAmerikanische JungferninselnAndorraAngolaAnguillaAntarktikaAntigua und BarbudaArgentinienArmenienArubaAserbaidschanAustralienBahamasBahrainBangladeschBarbadosBelarusBelgienBelizeBeninBermudaBhutanBolivien (Plurinationaler Staat)Bonaire\, Sint Eustatius und SabaBosnien und HerzegowinaBotswanaBouvetinselBrasilienBritische JungferninselnBritisches Territorium im Indischen OzeanBrunei DarussalamBulgarienBurkina FasoBurundiCabo VerdeChileChinaCookinselnCosta RicaCuraçaoDeutschlandDominicaDominikanische RepublikDschibutiDänemarkEcuadorEl SalvadorElfenbeinküsteEritreaEstlandEswatini (Königreich)Falklandinseln (Malwinen)FidschiFinnlandFrankreichFranzösisch-GuayanaFranzösisch-PolynesienFranzösische Süd- und AntarktisgebieteFäröerGabunGambiaGeorgiaGhanaGibraltarGrenadaGriechenlandGrönlandGuadeloupeGuamGuatemalaGuernseyGuineaGuinea-BissauGuyanaHaitiHeard und McDonaldinselnHondurasHongkongIndienIndonesienIrakIran (Islamische Republik)IrlandIslandIsle of ManIsraelItalienJamaikaJapanJemenJerseyJordanienKaimaninselnKambodschaKamerunKanadaKasachstanKatarKeniaKirgisistanKiribatiKokosinseln (Keelinginseln)KolumbienKomorenKongo (Demokratische Republik)Kongo (Republik)Korea (Demokratische Volksrepublik)Korea (Republik)KosovoKroatienKubaKuwaitLaos (Demokratische Volksrepublik)LesothoLettlandLibanonLiberiaLibyenLiechtensteinLitauenLuxemburgMacauMadagaskarMalawiMalaysiaMaledivenMaliMaltaMarokkoMarshallinselnMartiniqueMauretanienMauritiusMayotteMexikoMikronesienMoldau (Republik)MonacoMongoleiMontenegroMontserratMosambikMyanmarNamibiaNauruNepalNeukaledonienNeuseelandNicaraguaNiederlandeNigerNigeriaNiueNordmazedonien (Republik)NorfolkinselNorwegenNördliche MarianenOmanOsttimorPakistanPalauPalästina (Staat)PanamaPapua-NeuguineaParaguayPeruPhilippinenPitcairninselnPolenPortugalPuerto RicoRuandaRumänienRusslandRéunionSaint-BarthélemySaint-Pierre und MiquelonSalomonenSambiaSamoaSan MarinoSaudi-ArabienSchwedenSchweizSenegalSerbienSeychellenSierra LeoneSimbabweSingapurSint MaartenSlowakeiSlowenienSomaliaSpanienSpitzbergen und Jan MayenSri LankaSt. Helena\, Ascension und Tristan da CunhaSt. Kitts und NevisSt. LuciaSt. Martin (französisch)St. Vincent und die GrenadinenSudanSurinamSyrien (Arabische Republik)São Tomé und PríncipeSüdafrikaSüdgeorgien und die Südlichen SandwichinselnSüdsudanTadschikistanTaiwan\, Republik ChinaTansania (Vereinigte Republik)ThailandTogoTokelauTongaTrinidad und TobagoTschadTschechienTunesienTurkmenistanTurks- und CaicosinselnTuvaluTürkeiUSAUgandaUkraineUngarnUnited States Minor Outlying IslandsUruguayUsbekistanVanuatuVatikanstadt (Staat)Venezuela (Bolivarische Republik)Vereinigte Arabische EmirateVereinigtes Königreich von Großbritannien und NordirlandVietnamWallis und FutunaWeihnachtsinselWestsaharaZentralafrikanische RepublikZypernÄgyptenÄquatorialguineaÄthiopienÅlandinselnÖsterreichLandHiOrg? *BOS (ASB/DRK/JUH/MHD/Fw/Pol)Freie RHSkeine AngehörigkeitIn welchem Bereich tätig? *FlächeTrümmerMantrailingName des Hundes *Alter des Hundes?Verpflegung *Vegetarischeinfach AllesDSGVO-Einverständnis *Ich willige ein\, dass diese Website meine übermittelten Informationen speichert\, sodass meine Anfrage beantwortet werden kann.		\n			E-Mail-Adresse AGB Hundes?\n			\n		\n		AGB Einverständnis *zugestimmtAbsenden
URL:https://physiotraildogs.de/event/rettungshundearbeit-unter-dem-einfluss-von-leichengeruch/
LOCATION:Köln\, Köln\, Germany
ATTACH;FMTTYPE=image/jpeg:https://physiotraildogs.de/wp-content/uploads/2025/03/a30213d5-cf41-4f7c-8dd9-43f520abe951.jpeg
ORGANIZER;CN="PhysioTrailDogs":MAILTO:info@physiotraildogs.de
END:VEVENT
BEGIN:VEVENT
DTSTART;TZID=Europe/Berlin:20260227T190000
DTEND;TZID=Europe/Berlin:20260301T170000
DTSTAMP:20260424T180558
CREATED:20250526T100950Z
LAST-MODIFIED:20251211T110141Z
UID:262-1772218800-1772384400@physiotraildogs.de
SUMMARY:🐾🏙️🎉 Mantrailing Seminar in Köln: Nur noch 1 Platz frei! 🎉🏙️🐾 - 27. Feb. bis 01. März 2026 - Ausgebucht
DESCRIPTION:Seid dabei\, wenn vom 27. Feb. bis 01. März 2026 die pulsierende Kölner Innenstadt in ein spannendes Trainingsrevier für fortgeschrittene Mantrailing-Teams verwandelt wird! \nFreut euch auf ein intensives und lehrreiches Wochenende\, das eure Fähigkeiten in der anspruchsvollen Welt der Spurensuche auf ein neues Level heben wird. \n\nEuer exklusives Workshop-Erlebnis:\nFreitagabend: Stellt euch vor: Wir starten „entspannt“ ins Wochenende mit den ersten Trails mitten im lebendigen Herzen Kölns! Zwischen dem bunten Treiben\, der ausgelassenen Partystimmung und der malerischen Kulisse des Rheins werdet ihr und eure Hunde eine ganz besondere Herausforderung meistern. Ein unvergesslicher Auftakt in die Mantrailing-Action! \nSamstag & Sonntag: An beiden Tagen starten wir um 09:00 Uhr\, wenn die Stadt langsam erwacht und sich dann mit Leben füllt. Ihr könnt euch auf abwechslungsreiche und herausfordernde Trails freuen\, die euch und eure Hunde in dieser dynamischen Umgebung fordern und eure Partnerschaft stärken werden. \n\nDas Besondere: Lernen aus dem realen Einsatz!\nDie erfahrenen Trainer sind aktive Einsatzhundeführer einer großen Hilfsorganisation. Mit ihrer fundierten Expertise aus zahlreichen realen Einsätzen sind sie absolute Experten auf ihrem Gebiet und bringen einen unschätzbaren Erfahrungsschatz mit\, den sie gerne mit euch teilen! \n\nWorauf wartet ihr noch?\nSichert euch jetzt euren Platz für dieses außergewöhnliche Wochenende voller spannender Abenteuer und wertvoller Lernerfahrungen! Meldet euch umgehend an und erlebt gemeinsam mit eurem Hund ein unvergleichliches Trainingserlebnis in der lebendigen Kölner Innenstadt – inklusive aufregender Abendtrails zwischen Partyflair und Rheinromantik und intensiven Trainingseinheiten im erwachenden und pulsierenden Stadtleben! \nEs ist nur noch EIN Platz mit Hund frei! \n\nKosten:\n\nHundeführer/in mit einem Hund: 275€\nHundeführer/in mit zwei Hunden: 350€\n\nWir können es kaum erwarten\, euch und eure fantastischen Hunde in Köln willkommen zu heißen! \nAnmeldung:\nBitte aktiviere JavaScript in deinem Browser\, um dieses Formular fertigzustellen.Bitte aktiviere JavaScript in deinem Browser\, um dieses Formular fertigzustellen.Name *VornameNachnameE-Mail-Adresse *Adresse *Adresse Zeile 1Anschrift ZusatzOrtState / Province / RegionPostal Code--- Select country ---AfghanistanAlbanienAlgerienAmerikanisch-SamoaAmerikanische JungferninselnAndorraAngolaAnguillaAntarktikaAntigua und BarbudaArgentinienArmenienArubaAserbaidschanAustralienBahamasBahrainBangladeschBarbadosBelarusBelgienBelizeBeninBermudaBhutanBolivien (Plurinationaler Staat)Bonaire\, Sint Eustatius und SabaBosnien und HerzegowinaBotswanaBouvetinselBrasilienBritische JungferninselnBritisches Territorium im Indischen OzeanBrunei DarussalamBulgarienBurkina FasoBurundiCabo VerdeChileChinaCookinselnCosta RicaCuraçaoDeutschlandDominicaDominikanische RepublikDschibutiDänemarkEcuadorEl SalvadorElfenbeinküsteEritreaEstlandEswatini (Königreich)Falklandinseln (Malwinen)FidschiFinnlandFrankreichFranzösisch-GuayanaFranzösisch-PolynesienFranzösische Süd- und AntarktisgebieteFäröerGabunGambiaGeorgiaGhanaGibraltarGrenadaGriechenlandGrönlandGuadeloupeGuamGuatemalaGuernseyGuineaGuinea-BissauGuyanaHaitiHeard und McDonaldinselnHondurasHongkongIndienIndonesienIrakIran (Islamische Republik)IrlandIslandIsle of ManIsraelItalienJamaikaJapanJemenJerseyJordanienKaimaninselnKambodschaKamerunKanadaKasachstanKatarKeniaKirgisistanKiribatiKokosinseln (Keelinginseln)KolumbienKomorenKongo (Demokratische Republik)Kongo (Republik)Korea (Demokratische Volksrepublik)Korea (Republik)KosovoKroatienKubaKuwaitLaos (Demokratische Volksrepublik)LesothoLettlandLibanonLiberiaLibyenLiechtensteinLitauenLuxemburgMacauMadagaskarMalawiMalaysiaMaledivenMaliMaltaMarokkoMarshallinselnMartiniqueMauretanienMauritiusMayotteMexikoMikronesienMoldau (Republik)MonacoMongoleiMontenegroMontserratMosambikMyanmarNamibiaNauruNepalNeukaledonienNeuseelandNicaraguaNiederlandeNigerNigeriaNiueNordmazedonien (Republik)NorfolkinselNorwegenNördliche MarianenOmanOsttimorPakistanPalauPalästina (Staat)PanamaPapua-NeuguineaParaguayPeruPhilippinenPitcairninselnPolenPortugalPuerto RicoRuandaRumänienRusslandRéunionSaint-BarthélemySaint-Pierre und MiquelonSalomonenSambiaSamoaSan MarinoSaudi-ArabienSchwedenSchweizSenegalSerbienSeychellenSierra LeoneSimbabweSingapurSint MaartenSlowakeiSlowenienSomaliaSpanienSpitzbergen und Jan MayenSri LankaSt. Helena\, Ascension und Tristan da CunhaSt. Kitts und NevisSt. LuciaSt. Martin (französisch)St. Vincent und die GrenadinenSudanSurinamSyrien (Arabische Republik)São Tomé und PríncipeSüdafrikaSüdgeorgien und die Südlichen SandwichinselnSüdsudanTadschikistanTaiwan\, Republik ChinaTansania (Vereinigte Republik)ThailandTogoTokelauTongaTrinidad und TobagoTschadTschechienTunesienTurkmenistanTurks- und CaicosinselnTuvaluTürkeiUSAUgandaUkraineUngarnUnited States Minor Outlying IslandsUruguayUsbekistanVanuatuVatikanstadt (Staat)Venezuela (Bolivarische Republik)Vereinigte Arabische EmirateVereinigtes Königreich von Großbritannien und NordirlandVietnamWallis und FutunaWeihnachtsinselWestsaharaZentralafrikanische RepublikZypernÄgyptenÄquatorialguineaÄthiopienÅlandinselnÖsterreichLandHiOrg? *BOS (ASB/DRK/JUH/MHD/Fw/Pol)Freie RHSkeine Angehörigkeit		\n			Name des Hundes\n			\n		\n		Name des Hundes *Alter des Hundes?Verpflegung *Vegetarischeinfach AllesDSGVO-Einverständnis *Ich willige ein\, dass diese Website meine übermittelten Informationen speichert\, sodass meine Anfrage beantwortet werden kann.AGB Einverständnis *zugestimmtAbsenden
URL:https://physiotraildogs.de/event/mantrailing-seminar-in-koeln-nur-noch-1-platze-frei/
ATTACH;FMTTYPE=image/heic:https://physiotraildogs.de/wp-content/uploads/2025/04/IMG_0171-scaled.jpg
ORGANIZER;CN="PhysioTrailDogs":MAILTO:info@physiotraildogs.de
END:VEVENT
BEGIN:VEVENT
DTSTART;TZID=Europe/Berlin:20260220T200000
DTEND;TZID=Europe/Berlin:20260222T030000
DTSTAMP:20260424T180558
CREATED:20251112T132716Z
LAST-MODIFIED:20251114T130847Z
UID:360-1771617600-1771729200@physiotraildogs.de
SUMMARY:Night Trail – Mantrailing bei Dunkelheit & ggf. Schlechtwetter
DESCRIPTION:Night Trail – Mantrailing bei Dunkelheit & SchlechtwetterbedingungenZwei Tage intensives Training \n\nWarum dieses Seminar unverzichtbar ist:Echte Einsätze enden nicht bei Sonnenuntergang – im Gegenteil: Vermisstensuchen finden häufig in der Nacht oder unter widrigen Wetterbedingungen statt. Wer als einsatzfähiges Mantrailing-Team bestehen will\, muss lernen\, auch bei Dunkelheit\, Nässe\, wechselnden Temperaturen und Windverhältnissen souverän zu arbeiten. Genau hier setzt der Night Trail an – ein praxisorientiertes Intensivseminar\, das reale Einsatzbedingungen authentisch abbildet und die Leistungsfähigkeit von Mensch und Hund gezielt schärft. \nIn dieser zweitägigen Fortbildung trainieren die Teams unter professioneller Anleitung in urbanen und halburbanen Lagen (Altstadt\, Innenstadt\, Deutz). Die Trails beginnen in der Dämmerung und führen tief in die Nacht hinein – dort\, wo Sicht\, Orientierung und Konzentration gleichermaßen gefordert sind. \n\nSeminarinhalte: \n– Einflussfaktoren im nächtlichen Einsatz – Temperatur\, Feuchtigkeit\, Windrichtung und Oberflächenbeschaffenheit \n– Sicherheits- und Beleuchtungskonzepte – Taktisches Arbeiten mit Licht\, Schatten und Sichtbegrenzung \n– Kommunikation – Effektive Teamkoordination bei eingeschränkter Sicht \n– Realistische Nachtszenarien – Trails unter Einsatzbedingungen mit Fremdpersonen und variablem Geruchsverlauf \n– Witterungs- und Bodenanalyse – Verständnis der Spurhaltbarkeit unter wechselnden Bedingungen \n– Abschluss & Leistungsanalyse – Gemeinsame Nachbesprechung mit Feedback und Bewertung der Einsatzreife \n\nRahmendaten:📍 Ort: Köln🕗 Zeiten: 20:00–03:00 Uhr + strukturierte Nachbesprechung👥 Teilnehmerzahl: max. 6 Teams (begrenzte Plätze für intensive Betreuung) \n\nIhr Mehrwert:Dieses Seminar richtet sich an Teams\, die ihre Nachttauglichkeit realitätsnah überprüfen und professionalisieren möchten. Der Fokus liegt auf taktischem Denken\, Teamarbeit und sicherem Verhalten unter Einsatzbedingungen. Ziel ist es\, Hund und Hundeführer:in optimal auf nächtliche Realsuchen vorzubereiten – mit klaren Standards\, sicherem Auftreten und belastbarer Einsatzkompetenz. \nKosten: \n\nHundeführer/in mit einem Hund: 340€\nHundeführer/in mit zwei Hunden: 400€\n\nWir können es kaum erwarten\, euch und eure fantastischen Hunde in Köln willkommen zu heißen! \nAnmeldung:\nBitte aktiviere JavaScript in deinem Browser\, um dieses Formular fertigzustellen.Bitte aktiviere JavaScript in deinem Browser\, um dieses Formular fertigzustellen.		\n			Adresse Hundes AGB\n			\n		\n		Name *VornameNachnameE-Mail-Adresse *Adresse *Adresse Zeile 1Anschrift ZusatzOrtState / Province / RegionPostal Code--- Select country ---AfghanistanAlbanienAlgerienAmerikanisch-SamoaAmerikanische JungferninselnAndorraAngolaAnguillaAntarktikaAntigua und BarbudaArgentinienArmenienArubaAserbaidschanAustralienBahamasBahrainBangladeschBarbadosBelarusBelgienBelizeBeninBermudaBhutanBolivien (Plurinationaler Staat)Bonaire\, Sint Eustatius und SabaBosnien und HerzegowinaBotswanaBouvetinselBrasilienBritische JungferninselnBritisches Territorium im Indischen OzeanBrunei DarussalamBulgarienBurkina FasoBurundiCabo VerdeChileChinaCookinselnCosta RicaCuraçaoDeutschlandDominicaDominikanische RepublikDschibutiDänemarkEcuadorEl SalvadorElfenbeinküsteEritreaEstlandEswatini (Königreich)Falklandinseln (Malwinen)FidschiFinnlandFrankreichFranzösisch-GuayanaFranzösisch-PolynesienFranzösische Süd- und AntarktisgebieteFäröerGabunGambiaGeorgiaGhanaGibraltarGrenadaGriechenlandGrönlandGuadeloupeGuamGuatemalaGuernseyGuineaGuinea-BissauGuyanaHaitiHeard und McDonaldinselnHondurasHongkongIndienIndonesienIrakIran (Islamische Republik)IrlandIslandIsle of ManIsraelItalienJamaikaJapanJemenJerseyJordanienKaimaninselnKambodschaKamerunKanadaKasachstanKatarKeniaKirgisistanKiribatiKokosinseln (Keelinginseln)KolumbienKomorenKongo (Demokratische Republik)Kongo (Republik)Korea (Demokratische Volksrepublik)Korea (Republik)KosovoKroatienKubaKuwaitLaos (Demokratische Volksrepublik)LesothoLettlandLibanonLiberiaLibyenLiechtensteinLitauenLuxemburgMacauMadagaskarMalawiMalaysiaMaledivenMaliMaltaMarokkoMarshallinselnMartiniqueMauretanienMauritiusMayotteMexikoMikronesienMoldau (Republik)MonacoMongoleiMontenegroMontserratMosambikMyanmarNamibiaNauruNepalNeukaledonienNeuseelandNicaraguaNiederlandeNigerNigeriaNiueNordmazedonien (Republik)NorfolkinselNorwegenNördliche MarianenOmanOsttimorPakistanPalauPalästina (Staat)PanamaPapua-NeuguineaParaguayPeruPhilippinenPitcairninselnPolenPortugalPuerto RicoRuandaRumänienRusslandRéunionSaint-BarthélemySaint-Pierre und MiquelonSalomonenSambiaSamoaSan MarinoSaudi-ArabienSchwedenSchweizSenegalSerbienSeychellenSierra LeoneSimbabweSingapurSint MaartenSlowakeiSlowenienSomaliaSpanienSpitzbergen und Jan MayenSri LankaSt. Helena\, Ascension und Tristan da CunhaSt. Kitts und NevisSt. LuciaSt. Martin (französisch)St. Vincent und die GrenadinenSudanSurinamSyrien (Arabische Republik)São Tomé und PríncipeSüdafrikaSüdgeorgien und die Südlichen SandwichinselnSüdsudanTadschikistanTaiwan\, Republik ChinaTansania (Vereinigte Republik)ThailandTogoTokelauTongaTrinidad und TobagoTschadTschechienTunesienTurkmenistanTurks- und CaicosinselnTuvaluTürkeiUSAUgandaUkraineUngarnUnited States Minor Outlying IslandsUruguayUsbekistanVanuatuVatikanstadt (Staat)Venezuela (Bolivarische Republik)Vereinigte Arabische EmirateVereinigtes Königreich von Großbritannien und NordirlandVietnamWallis und FutunaWeihnachtsinselWestsaharaZentralafrikanische RepublikZypernÄgyptenÄquatorialguineaÄthiopienÅlandinselnÖsterreichLandHiOrg? *BOS (ASB/DRK/JUH/MHD/Fw/Pol)Freie RHSkeine AngehörigkeitName des Hundes *Alter des Hundes?Verpflegung *Vegetarischeinfach AllesDSGVO-Einverständnis *Ich willige ein\, dass diese Website meine übermittelten Informationen speichert\, sodass meine Anfrage beantwortet werden kann.AGB Einverständnis *zugestimmtAbsenden
URL:https://physiotraildogs.de/event/night-trail-mantrailing-bei-dunkelheit-ggf-schlechtwetter/
LOCATION:Köln\, Köln\, Germany
ATTACH;FMTTYPE=image/jpeg:https://physiotraildogs.de/wp-content/uploads/2025/11/qtq80-zDyStX.jpeg
ORGANIZER;CN="PhysioTrailDogs":MAILTO:info@physiotraildogs.de
END:VEVENT
BEGIN:VEVENT
DTSTART;TZID=Europe/Berlin:20250829T160000
DTEND;TZID=Europe/Berlin:20250831T160000
DTSTAMP:20260424T180558
CREATED:20250422T142049Z
LAST-MODIFIED:20250529T132753Z
UID:187-1756483200-1756656000@physiotraildogs.de
SUMMARY:MT Workshop in Köln vom 29. bis 31. August 2025
DESCRIPTION:Seid dabei\, wenn vom 29. bis 31. August die pulsierende Kölner Innenstadt in ein spannendes Trainingsrevier für fortgeschrittene Mantrailing-Teams verwandelt wird! \nFreut euch auf ein intensives und lehrreiches Wochenende\, das eure Fähigkeiten in der anspruchsvollen Welt der Spurensuche auf ein neues Level heben wird. \nEuer exklusives Workshop-Erlebnis: \n\nFreitagabend: Stellt euch vor: Wir starten „entspannt“ ins Wochenende mit den ersten Trail mitten im lebendigen Herzen Kölns! Zwischen dem bunten Treiben\, der ausgelassenen Partystimmung und der malerischen Kulisse des Rheins werdet ihr und eure Hunde eine ganz besondere Herausforderung meistern. Ein unvergesslicher Auftakt in die Mantrailing-Action!\nSamstag & Sonntag: An beiden Tagen starten wir um 09:00 Uhr\, wenn die Stadt langsam erwacht und sich dann mit Leben füllt. Ihr könnt euch auf abwechslungsreiche und herausfordernde Trails freuen\, die euch und eure Hunde in dieser dynamischen Umgebung fordern und eure Partnerschaft stärken werden.\n\nDas Besondere: Lernen aus dem realen Einsatz! \nDie erfahrenen Trainer sind aktive Einsatzhundeführer einer großen Hilfsorganisation. Mit ihrer fundierten Expertise aus zahlreichen realen Einsätzen sind sie absolute Experten auf ihrem Gebiet und bringen einen unschätzbaren Erfahrungsschatz mit\, den sie gerne mit euch teilen! \nWorauf wartet ihr noch? Sichert euch jetzt euren Platz für dieses außergewöhnliche Wochenende voller spannender Abenteuer und wertvoller Lernerfahrungen! Meldet euch umgehend an und erlebt gemeinsam mit eurem Hund ein unvergleichliches Trainingserlebnis in der lebendigen Kölner Innenstadt – inklusive aufregender Abendtrails zwischen Partyflair und Rheinromantik und intensiven Trainingseinheiten im erwachenden und pulsierenden Stadtleben! \nKosten: \n\nHundeführer/in mit einem Hund: 250€\nHundeführer/in mit zwei Hunden: 325€\n\nWir können es kaum erwarten\, euch und eure fantastischen Hunde in Köln willkommen zu heißen! 🐾🏙️🎉☀️ \nAnmeldung\nBitte aktiviere JavaScript in deinem Browser\, um dieses Formular fertigzustellen.Bitte aktiviere JavaScript in deinem Browser\, um dieses Formular fertigzustellen.Name *VornameNachnameE-Mail-Adresse *Adresse *Adresse Zeile 1Anschrift ZusatzOrtState / Province / RegionPostal Code--- Select country ---AfghanistanAlbanienAlgerienAmerikanisch-SamoaAmerikanische JungferninselnAndorraAngolaAnguillaAntarktikaAntigua und BarbudaArgentinienArmenienArubaAserbaidschanAustralienBahamasBahrainBangladeschBarbadosBelarusBelgienBelizeBeninBermudaBhutanBolivien (Plurinationaler Staat)Bonaire\, Sint Eustatius und SabaBosnien und HerzegowinaBotswanaBouvetinselBrasilienBritische JungferninselnBritisches Territorium im Indischen OzeanBrunei DarussalamBulgarienBurkina FasoBurundiCabo VerdeChileChinaCookinselnCosta RicaCuraçaoDeutschlandDominicaDominikanische RepublikDschibutiDänemarkEcuadorEl SalvadorElfenbeinküsteEritreaEstlandEswatini (Königreich)Falklandinseln (Malwinen)FidschiFinnlandFrankreichFranzösisch-GuayanaFranzösisch-PolynesienFranzösische Süd- und AntarktisgebieteFäröerGabunGambiaGeorgiaGhanaGibraltarGrenadaGriechenlandGrönlandGuadeloupeGuamGuatemalaGuernseyGuineaGuinea-BissauGuyanaHaitiHeard und McDonaldinselnHondurasHongkongIndienIndonesienIrakIran (Islamische Republik)IrlandIslandIsle of ManIsraelItalienJamaikaJapanJemenJerseyJordanienKaimaninselnKambodschaKamerunKanadaKasachstanKatarKeniaKirgisistanKiribatiKokosinseln (Keelinginseln)KolumbienKomorenKongo (Demokratische Republik)Kongo (Republik)Korea (Demokratische Volksrepublik)Korea (Republik)KosovoKroatienKubaKuwaitLaos (Demokratische Volksrepublik)LesothoLettlandLibanonLiberiaLibyenLiechtensteinLitauenLuxemburgMacauMadagaskarMalawiMalaysiaMaledivenMaliMaltaMarokkoMarshallinselnMartiniqueMauretanienMauritiusMayotteMexikoMikronesienMoldau (Republik)MonacoMongoleiMontenegroMontserratMosambikMyanmarNamibiaNauruNepalNeukaledonienNeuseelandNicaraguaNiederlandeNigerNigeriaNiueNordmazedonien (Republik)NorfolkinselNorwegenNördliche MarianenOmanOsttimorPakistanPalauPalästina (Staat)PanamaPapua-NeuguineaParaguayPeruPhilippinenPitcairninselnPolenPortugalPuerto RicoRuandaRumänienRusslandRéunionSaint-BarthélemySaint-Pierre und MiquelonSalomonenSambiaSamoaSan MarinoSaudi-ArabienSchwedenSchweizSenegalSerbienSeychellenSierra LeoneSimbabweSingapurSint MaartenSlowakeiSlowenienSomaliaSpanienSpitzbergen und Jan MayenSri LankaSt. Helena\, Ascension und Tristan da CunhaSt. Kitts und NevisSt. LuciaSt. Martin (französisch)St. Vincent und die GrenadinenSudanSurinamSyrien (Arabische Republik)São Tomé und PríncipeSüdafrikaSüdgeorgien und die Südlichen SandwichinselnSüdsudanTadschikistanTaiwan\, Republik ChinaTansania (Vereinigte Republik)ThailandTogoTokelauTongaTrinidad und TobagoTschadTschechienTunesienTurkmenistanTurks- und CaicosinselnTuvaluTürkeiUSAUgandaUkraineUngarnUnited States Minor Outlying IslandsUruguayUsbekistanVanuatuVatikanstadt (Staat)Venezuela (Bolivarische Republik)Vereinigte Arabische EmirateVereinigtes Königreich von Großbritannien und NordirlandVietnamWallis und FutunaWeihnachtsinselWestsaharaZentralafrikanische RepublikZypernÄgyptenÄquatorialguineaÄthiopienÅlandinselnÖsterreichLandHiOrg? *BOS (ASB/DRK/JUH/MHD/Fw/Pol)Freie RHSkeine AngehörigkeitName des Hundes *Alter des Hundes?		\n			DSGVO-Einverständnis Name HiOrg?\n			\n		\n		Verpflegung *Vegetarischeinfach AllesDSGVO-Einverständnis *Ich willige ein\, dass diese Website meine übermittelten Informationen speichert\, sodass meine Anfrage beantwortet werden kann.AGB Einverständnis *zugestimmtAbsenden
URL:https://physiotraildogs.de/event/koeln-vom-29-31-august-2025/
LOCATION:Köln\, Köln\, Germany
ATTACH;FMTTYPE=image/heic:https://physiotraildogs.de/wp-content/uploads/2025/04/IMG_0171-scaled.jpg
ORGANIZER;CN="PhysioTrailDogs":MAILTO:info@physiotraildogs.de
END:VEVENT
BEGIN:VEVENT
DTSTART;TZID=Europe/Berlin:20250418T000000
DTEND;TZID=Europe/Berlin:20250420T235959
DTSTAMP:20260424T180558
CREATED:20250312T164514Z
LAST-MODIFIED:20250527T071236Z
UID:93-1744934400-1745193599@physiotraildogs.de
SUMMARY:Mantrailing Seminar/Workshop in Kiel - ausgebucht
DESCRIPTION:
URL:https://physiotraildogs.de/event/mantrailing-seminar-workshop-in-kiel/
LOCATION:Kiel\, Kiel\, Germany
ORGANIZER;CN="PhysioTrailDogs":MAILTO:info@physiotraildogs.de
END:VEVENT
END:VCALENDAR